BEGIN:VCALENDAR
VERSION:2.0
PRODID:-//ChamberMaster//Event Calendar 2.0//EN
METHOD:PUBLISH
X-PUBLISHED-TTL:P3D
REFRESH-INTERVAL:P3D
CALSCALE:GREGORIAN
BEGIN:VEVENT
DTSTART:20111007T113000Z
DTEND:20111007T123000Z
X-MICROSOFT-CDO-ALLDAYEVENT:FALSE
SUMMARY:First Friday Networking 10.7.11
DESCRIPTION:Come join us at our next First Friday Networking event. It is a great way to meet other business people and to make new contact to help increase your business.\n\n	\n\n	Be sure to bring along your business cards!
X-ALT-DESC;FMTTYPE=text/html:<p style="text-align: center">\n	<br />\n	<br />\n	<br />\n	Come join us at our next First Friday Networking event. It is a great way to meet other business people and to make new contact to help increase your business.<br />\n	<br />\n	Be sure to bring along your business cards!</p>\n
LOCATION:Fast-Fix Jewelry & Watch Repairs 400 Greece Ridge Center Drive Greece\, NY 14626 Located in The Mall at Greece Ridge between Macy's and the Food Court
UID:e.261.2767
SEQUENCE:3
DTSTAMP:20260421T031447Z
URL:http://greecechamber-dev.chambermaster.com/events/details/first-friday-networking-10-7-11-10-07-2011-2767
END:VEVENT

END:VCALENDAR
