BEGIN:VCALENDAR
VERSION:2.0
PRODID:-//ChamberMaster//Event Calendar 2.0//EN
METHOD:PUBLISH
X-PUBLISHED-TTL:P3D
REFRESH-INTERVAL:P3D
CALSCALE:GREGORIAN
BEGIN:VEVENT
DTSTART:20110603T113000Z
DTEND:20110603T123000Z
X-MICROSOFT-CDO-ALLDAYEVENT:FALSE
SUMMARY:First Friday Networking 6.3.11
DESCRIPTION:Come join us for our First Friday Networking event. It is a great way to meet other business people and to make new contacts to help increase your business.\n\n		\n\n		Be sure to bring your business cards!\n\n		\n\n		\n\n		\n\n		Call (585) 227-7272 for more information\, or email your questions to  Sue Edgett at the Chamber office.
X-ALT-DESC;FMTTYPE=text/html:<div>\n	<p style="text-align: center">\n		<br />\n		<span style="font-size: 12px"><span style="font-size: 14px"><strong>Come join us for our First Friday Networking event. It is a great way to meet other business people and to make new contacts to help increase your business.<br />\n		<br />\n		Be sure to bring your business cards!</strong></span><br />\n		<br />\n		<br />\n		<br />\n		<span style="font-size: 11px">Call (585) 227-7272 for more information\, or email your questions to <span _fck_bookmark="1" style="display: none">&nbsp\;</span><a href="mailto:Sue@GreeceChamber.org?subject=February%202011%20First%20Friday"><span style="color: #000000">Sue Edgett</span></a> at the Chamber office.</span></span><br />\n		<br />\n		<br />\n		<br />\n		&nbsp\;</p>\n</div>\n
LOCATION:Legacy at Park Crescent 1000 Providence Circle Off Mt. Read Blvd. Greece\, NY 14616
UID:e.261.2638
SEQUENCE:3
DTSTAMP:20260420T151536Z
URL:http://greecechamber-dev.chambermaster.com/events/details/first-friday-networking-6-3-11-06-03-2011-2638
END:VEVENT

END:VCALENDAR
