BEGIN:VCALENDAR
VERSION:2.0
PRODID:-//ChamberMaster//Event Calendar 2.0//EN
METHOD:PUBLISH
X-PUBLISHED-TTL:P3D
REFRESH-INTERVAL:P3D
CALSCALE:GREGORIAN
BEGIN:VEVENT
DTSTART:20120803T113000Z
DTEND:20120803T123000Z
X-MICROSOFT-CDO-ALLDAYEVENT:FALSE
SUMMARY:First Friday Networking 8.3.12
DESCRIPTION:Come join us for our First Friday Networking event. It is a great way to meet other business people and to make new contacts to help increase your business. \n\n		Be sure to bring along your business cards!\n\n		 \n\n		\n\n		Call (585) 227-7272 for more information\, or email your questions to Sue Edgett at the Greece Chamber offices.
X-ALT-DESC;FMTTYPE=text/html:<div>\n	<p align="center">\n		<br />\n		<br />\n		<strong><span style="font-weight: normal"><span style="font-size: 11pt"><span style="font-family: trebuchet ms">Come join us for our First Friday Networking event. It is a great way to meet other business people and to make new contacts to help increase your business. </span></span></span></strong><br />\n		<strong><span style="font-weight: normal"><span style="font-size: 11pt"><span style="font-family: trebuchet ms">Be sure to bring along your business cards!</span></span></span></strong><br />\n		&nbsp\;<br />\n		<br />\n		<span style="font-size: 10pt"><span style="font-family: trebuchet ms">Call (585) 227-7272 for more information\, or email your questions to </span><a href="mailto:Sue@GreeceChamber.org?subject=First%20Friday%20Networking"><span style="color: windowtext">Sue Edgett</span></a></span>&nbsp\;at the Greece Chamber offices.&nbsp\;<br />\n		&nbsp\;</p>\n</div>\n
LOCATION:Genesee Regional Bank 2300 West Ridge Road Greece\, NY 14626
UID:e.261.2850
SEQUENCE:3
DTSTAMP:20260420T173418Z
URL:http://greecechamber-dev.chambermaster.com/events/details/first-friday-networking-8-3-12-08-03-2012-2850
END:VEVENT

END:VCALENDAR
