BEGIN:VCALENDAR
VERSION:2.0
PRODID:-//ChamberMaster//Event Calendar 2.0//EN
METHOD:PUBLISH
X-PUBLISHED-TTL:P3D
REFRESH-INTERVAL:P3D
CALSCALE:GREGORIAN
BEGIN:VEVENT
DTSTART:20210126T170000Z
DTEND:20210126T173000Z
X-MICROSOFT-CDO-ALLDAYEVENT:FALSE
SUMMARY:Smarter Business Security from Security 101 Live Webinar
DESCRIPTION:Please join us for a live demo of our Smarter Business platform.\n\nLearn how you can manage your business security\, video\, access control and energy management all through one app.
X-ALT-DESC;FMTTYPE=text/html:Please join us for a live demo of our Smarter Business platform.<br />\nLearn how you can manage your business security\, video\, access control and energy management all through one app.<br />\n<br />\n&nbsp\;
LOCATION:Webex: https://alarm.webex.com/mw3300/mywebex/default.do?nomenu=true&siteurl=alarm&service=6&rnd=0.42454321253152505&main_url=https%3A%2F%2Falarm.webex.com%2Fec3300%2Feventcenter%2Fevent%2FeventAction.do%3FtheAction%3Ddetail%26%26%26EMK%3D4832534b00000004f1aeb7a163ded525f1948d8fb10bc3a54208109d1ea33d66704d3c30f0681733%26siteurl%3Dalarm%26confViewID%3D183351244658585536%26encryptTicket%3DSDJTSwAAAATQTWJQgW2UOSgVpkL1la46jLemdo6ptKIM19pGN7bNrg2%26
UID:e.261.6997
SEQUENCE:3
DTSTAMP:20260425T021335Z
URL:http://greecechamber-dev.chambermaster.com/events/details/smarter-business-security-from-security-101-live-webinar-6997
END:VEVENT

END:VCALENDAR
